{
 "currentVersion": 11.5,
 "cimVersion": "3.5.0",
 "serviceDescription": "",
 "mapName": "pla_general_metropolita_refos_1987_25831",
 "description": "",
 "copyrightText": "",
 "supportsDynamicLayers": true,
 "layers": [
  {
   "id": 0,
   "name": "Refos_2000",
   "parentLayerId": -1,
   "defaultVisibility": true,
   "subLayerIds": [
    1,
    2,
    3
   ],
   "minScale": 0,
   "maxScale": 0,
   "type": "Mosaic Layer",
   "supportsDynamicLegends": false
  },
  {
   "id": 1,
   "name": "LĂ­mite",
   "parentLayerId": 0,
   "defaultVisibility": false,
   "subLayerIds": null,
   "minScale": 0,
   "maxScale": 0,
   "type": "Feature Layer",
   "geometryType": "esriGeometryPolygon",
   "supportsDynamicLegends": true
  },
  {
   "id": 2,
   "name": "Huella",
   "parentLayerId": 0,
   "defaultVisibility": false,
   "subLayerIds": null,
   "minScale": 0,
   "maxScale": 0,
   "type": "Feature Layer",
   "geometryType": "esriGeometryPolygon",
   "supportsDynamicLegends": true
  },
  {
   "id": 3,
   "name": "Imagen",
   "parentLayerId": 0,
   "defaultVisibility": true,
   "subLayerIds": null,
   "minScale": 0,
   "maxScale": 0,
   "type": "Raster Layer",
   "supportsDynamicLegends": true
  }
 ],
 "tables": [],
 "spatialReference": {
  "wkid": 25831,
  "latestWkid": 25831,
  "xyTolerance": 0.001,
  "zTolerance": 0.001,
  "mTolerance": 0.001,
  "falseX": -5120900,
  "falseY": -9998100,
  "xyUnits": 10000,
  "falseZ": -100000,
  "zUnits": 10000,
  "falseM": -100000,
  "mUnits": 10000
 },
 "singleFusedMapCache": true,
 "tileInfo": {
  "rows": 256,
  "cols": 256,
  "dpi": 96,
  "format": "PNG8",
  "compressionQuality": 0,
  "origin": {
   "x": 258000,
   "y": 4766600
  },
  "spatialReference": {
   "wkid": 25831,
   "latestWkid": 25831,
   "xyTolerance": 0.001,
   "zTolerance": 0.001,
   "mTolerance": 0.001,
   "falseX": -5120900,
   "falseY": -9998100,
   "xyUnits": 10000,
   "falseZ": -100000,
   "zUnits": 10000,
   "falseM": -100000,
   "mUnits": 10000
  },
  "lods": [
   {
    "level": 0,
    "resolution": 78271.51696399994,
    "scale": 2.95828763795777E8
   },
   {
    "level": 1,
    "resolution": 39135.75848200009,
    "scale": 1.47914381897889E8
   },
   {
    "level": 2,
    "resolution": 19567.87924099992,
    "scale": 7.3957190948944E7
   },
   {
    "level": 3,
    "resolution": 9783.93962049996,
    "scale": 3.6978595474472E7
   },
   {
    "level": 4,
    "resolution": 4891.96981024998,
    "scale": 1.8489297737236E7
   },
   {
    "level": 5,
    "resolution": 2445.98490512499,
    "scale": 9244648.868618
   },
   {
    "level": 6,
    "resolution": 1222.992452562495,
    "scale": 4622324.434309
   },
   {
    "level": 7,
    "resolution": 611.4962262813797,
    "scale": 2311162.217155
   },
   {
    "level": 8,
    "resolution": 305.74811314055756,
    "scale": 1155581.108577
   },
   {
    "level": 9,
    "resolution": 152.87405657041106,
    "scale": 577790.554289
   },
   {
    "level": 10,
    "resolution": 76.43702828507324,
    "scale": 288895.277144
   },
   {
    "level": 11,
    "resolution": 38.21851414253662,
    "scale": 144447.638572
   },
   {
    "level": 12,
    "resolution": 19.10925707126831,
    "scale": 72223.819286
   },
   {
    "level": 13,
    "resolution": 9.554628535634155,
    "scale": 36111.909643
   },
   {
    "level": 14,
    "resolution": 4.77731426794937,
    "scale": 18055.954822
   },
   {
    "level": 15,
    "resolution": 2.388657133974685,
    "scale": 9027.977411
   },
   {
    "level": 16,
    "resolution": 1.1943285668550503,
    "scale": 4513.988705
   },
   {
    "level": 17,
    "resolution": 0.5971642835598172,
    "scale": 2256.994353
   },
   {
    "level": 18,
    "resolution": 0.29858214164761665,
    "scale": 1128.497176
   },
   {
    "level": 19,
    "resolution": 0.14929107082380833,
    "scale": 564.248588
   },
   {
    "level": 20,
    "resolution": 0.07464553541190416,
    "scale": 282.124294
   },
   {
    "level": 21,
    "resolution": 0.03732276770595208,
    "scale": 141.062147
   },
   {
    "level": 22,
    "resolution": 0.01866138385297604,
    "scale": 70.5310735
   }
  ]
 },
 "storageInfo": {
  "storageFormat": "esriMapCacheStorageModeCompactV2",
  "packetSize": 128
 },
 "initialExtent": {
  "xmin": 404024.45298153366,
  "ymin": 4566323.0196111305,
  "xmax": 446002.3398509771,
  "ymax": 4599074.4043537425,
  "spatialReference": {
   "wkid": 25831,
   "latestWkid": 25831,
   "xyTolerance": 0.001,
   "zTolerance": 0.001,
   "mTolerance": 0.001,
   "falseX": -5120900,
   "falseY": -9998100,
   "xyUnits": 10000,
   "falseZ": -100000,
   "zUnits": 10000,
   "falseM": -100000,
   "mUnits": 10000
  }
 },
 "fullExtent": {
  "xmin": 404024.45298153366,
  "ymin": 4566323.0196111305,
  "xmax": 446002.3398509771,
  "ymax": 4599074.4043537425,
  "spatialReference": {
   "wkid": 25831,
   "latestWkid": 25831,
   "xyTolerance": 0.001,
   "zTolerance": 0.001,
   "mTolerance": 0.001,
   "falseX": -5120900,
   "falseY": -9998100,
   "xyUnits": 10000,
   "falseZ": -100000,
   "zUnits": 10000,
   "falseM": -100000,
   "mUnits": 10000
  }
 },
 "datesInUnknownTimezone": false,
 "minScale": 288895.277144,
 "maxScale": 1128.497176,
 "minLOD": 10,
 "maxLOD": 18,
 "units": "esriMeters",
 "supportedImageFormatTypes": "PNG32,PNG24,PNG,JPG,DIB,TIFF,EMF,PS,PDF,GIF,SVG,SVGZ,BMP",
 "documentInfo": {
  "Title": "Mapa",
  "Author": "",
  "Comments": "",
  "Subject": "",
  "Category": "",
  "Version": "2.9.0",
  "AntialiasingMode": "Fast",
  "TextAntialiasingMode": "Force",
  "Keywords": ""
 },
 "supportsQueryDomains": true,
 "capabilities": "Map",
 "supportedQueryFormats": "JSON, geoJSON, PBF",
 "exportTilesAllowed": false,
 "referenceScale": 0.0,
 "datumTransformations": [
  {
   "geoTransforms": [
    {
     "wkid": 1149,
     "latestWkid": 1149,
     "transformForward": false,
     "name": "ETRS_1989_To_WGS_1984"
    }
   ]
  },
  {
   "geoTransforms": [
    {
     "wkid": 1149,
     "latestWkid": 1149,
     "transformForward": true,
     "name": "ETRS_1989_To_WGS_1984"
    }
   ]
  },
  {
   "geoTransforms": [
    {
     "wkid": 1149,
     "latestWkid": 1149,
     "transformForward": false,
     "name": "ETRS_1989_To_WGS_1984"
    }
   ]
  },
  {
   "geoTransforms": [
    {
     "wkid": 1149,
     "latestWkid": 1149,
     "transformForward": true,
     "name": "ETRS_1989_To_WGS_1984"
    }
   ]
  }
 ],
 "supportsDatumTransformation": true,
 "archivingInfo": {
  "supportsHistoricMoment": false
 },
 "supportsClipping": true,
 "supportsSpatialFilter": true,
 "supportsTimeRelation": true,
 "supportsQueryDataElements": true,
 "mapUnits": {
  "uwkid": 9001
 },
 "maxSelectionCount": 2000,
 "maxRecordCount": 2000,
 "maxImageHeight": 4096,
 "maxImageWidth": 4096,
 "supportedExtensions": ""
}
