View In:
ArcGIS JavaScript
ArcGIS Online Map Viewer
ArcGIS Earth
ArcGIS Pro
Service Description:
Map Name: classificacio_refos_25831
Legend
All Layers and Tables
Dynamic Legend
Dynamic All Layers
Layers:
Description:
Copyright Text: Servei d'Informació UrbanísticaÀrea de Desenvolupament de Polítiques UrbanístiquesAMB
Spatial Reference:
25831
(25831)
LatestVCSWkid(0)
Single Fused Map Cache: true
Tile Info:
- Height: 256.0
- Width: 256.0
- DPI: 96.0
-
Levels of Detail: 23
-
Level ID: 0
[ Start Tile, End Tile ]
- Resolution: 78271.51696399994
- Scale: 2.95828763795777E8
-
Level ID: 1
[ Start Tile, End Tile ]
- Resolution: 39135.75848200009
- Scale: 1.47914381897889E8
-
Level ID: 2
[ Start Tile, End Tile ]
- Resolution: 19567.87924099992
- Scale: 7.3957190948944E7
-
Level ID: 3
[ Start Tile, End Tile ]
- Resolution: 9783.93962049996
- Scale: 3.6978595474472E7
-
Level ID: 4
[ Start Tile, End Tile ]
- Resolution: 4891.96981024998
- Scale: 1.8489297737236E7
- Format: PNG8
- Compression Quality: 0.0
- Origin: X: 258000.0
Y: 4766600.0
- Spatial Reference: 25831
(25831)
LatestVCSWkid(0)
Storage Info:
- Storage Format: esriMapCacheStorageModeCompactV2
- Packet Size: 128
Initial Extent:
XMin: 403458.0999999996
YMin: 4556402.198790928
XMax: 441243.8542999998
YMax: 4614914.316209072
Spatial Reference: 25831
(25831)
LatestVCSWkid(0)
Full Extent:
XMin: 403458.0999999996
YMin: 4568523.380000001
XMax: 441243.8542999998
YMax: 4602793.135
Spatial Reference: 25831
(25831)
LatestVCSWkid(0)
Units: esriMeters
Supported Image Format Types: PNG32,PNG24,PNG,JPG,DIB,TIFF,EMF,PS,PDF,GIF,SVG,SVGZ,BMP
Document Info:
Title: Planejament - Classificació del sòl
Author:
Comments:
Subject: Refós de Planejament Urbanístic de l'AMB.
Data d'actualització: 1 de juliol de 2023
Category:
Keywords: Refós,Planejament,Classificació del sòl,AMB
AntialiasingMode: Fast
TextAntialiasingMode: Force
Supports Dynamic Layers: true
Resampling: false
MaxRecordCount: 2000
MaxSelectionCount: 2000
MaxImageHeight: 4096
MaxImageWidth: 4096
Supported Query Formats: JSON, geoJSON, PBF
Supports Query Data Elements: true
Min Scale: 2.95828763795777E8
Max Scale: 564.248588
Min LOD: 0
Max LOD: 19
Supports Datum Transformation: true
Child Resources:
Info
Dynamic Layer
Supported Operations:
Export Map
Identify
QueryLegends
QueryDomains
Find
Return Updates