View In:
ArcGIS JavaScript
ArcGIS Online Map Viewer
ArcGIS Earth
ArcGIS Pro
Service Description: <DIV STYLE="text-align:Left;font-size:12pt"><P><SPAN>ortofoto</SPAN><SPAN> </SPAN><SPAN>territorial</SPAN><SPAN> </SPAN><SPAN>50cm</SPAN><SPAN> del </SPAN><SPAN>1992</SPAN></P></DIV>
Map Name: ortofoto_territorial_50cm_1992_3857
Legend
All Layers and Tables
Dynamic Legend
Dynamic All Layers
Layers:
Description: <DIV STYLE="text-align:Left;font-size:12pt"><P><SPAN>ortofoto</SPAN><SPAN> </SPAN><SPAN>territorial</SPAN><SPAN> </SPAN><SPAN>50cm</SPAN><SPAN> del </SPAN><SPAN>1992</SPAN></P></DIV>
Copyright Text:
Spatial Reference:
102100
(3857)
LatestVCSWkid(0)
Single Fused Map Cache: true
Tile Info:
- Height: 256.0
- Width: 256.0
- DPI: 96.0
-
Levels of Detail: 24
-
Level ID: 1
[ Start Tile, End Tile ]
- Resolution: 78271.5169639999
- Scale: 2.95828763795777E8
-
Level ID: 2
[ Start Tile, End Tile ]
- Resolution: 39135.7584820001
- Scale: 1.47914381897889E8
-
Level ID: 3
[ Start Tile, End Tile ]
- Resolution: 19567.8792409999
- Scale: 7.3957190948944E7
-
Level ID: 4
[ Start Tile, End Tile ]
- Resolution: 9783.93962049996
- Scale: 3.6978595474472E7
-
Level ID: 5
[ Start Tile, End Tile ]
- Resolution: 4891.96981024998
- Scale: 1.8489297737236E7
- Format: PNG8
- Compression Quality: 0.0
- Origin: X: -2.0037508342787E7
Y: 2.0037508342787E7
- Spatial Reference: 102100
(3857)
LatestVCSWkid(0)
Storage Info:
- Storage Format: esriMapCacheStorageModeCompactV2
- Packet Size: 128
Initial Extent:
XMin: 201261.15206109948
YMin: 5046105.0947858095
XMax: 257741.75903225958
YMax: 5095834.551297236
Spatial Reference: 102100
(3857)
LatestVCSWkid(0)
Full Extent:
XMin: 201261.15206109948
YMin: 5048945.431366805
XMax: 257741.75903225958
YMax: 5092994.21471624
Spatial Reference: 102100
(3857)
LatestVCSWkid(0)
Units: esriMeters
Supported Image Format Types: PNG32,PNG24,PNG,JPG,DIB,TIFF,EMF,PS,PDF,GIF,SVG,SVGZ,BMP
Document Info:
Title: ortofoto_territorial_50cm_1992
Author:
Comments: <DIV STYLE="text-align:Left;font-size:12pt"><P><SPAN>ortofoto</SPAN><SPAN> </SPAN><SPAN>territorial</SPAN><SPAN> </SPAN><SPAN>50cm</SPAN><SPAN> del </SPAN><SPAN>1992</SPAN></P></DIV>
Subject:
Category:
Keywords:
AntialiasingMode: Fast
TextAntialiasingMode: Force
Supports Dynamic Layers: true
MaxRecordCount: 2000
MaxSelectionCount: 2000
MaxImageHeight: 4096
MaxImageWidth: 4096
Supported Query Formats: JSON, geoJSON, PBF
Supports Query Data Elements: true
Min Scale: 288895.277144
Max Scale: 1128.497176
Supports Datum Transformation: true
Child Resources:
Info
Dynamic Layer
Supported Operations:
Export Map
Identify
QueryLegends
QueryDomains
Find
Return Updates